Workbook

Sheet Checkliste
A1: CHECKLISTE BÜROUMZUG
A2: Tipps zur Planung und Organisation eines Büroumzugs
A5: Nr. | B5: Phase | C5: Aufgabe | D5: Status | E5: Verantwortlich | F5: Frist | G5: Notizen
A6: 1 | B6: Langfristige Vorbereitung | C6: Kündigen Sie rechtzeitig den Mietvertrag für die bisherigen Räumlichkeiten. | D6: Offen
A7: 2 | B7: Langfristige Vorbereitung | C7: Vereinbaren Sie, was mit fest eingebauten Möbeln oder Gegenständen (z. B. Küche, Schränke) geschehen soll. | D7: Offen
A8: 3 | B8: Langfristige Vorbereitung | C8: Unterschreiben Sie den neuen Mietvertrag. | D8: Offen
A9: 4 | B9: Langfristige Vorbereitung | C9: Muss im alten oder im neuen Objekt renoviert werden? Welcher Aufwand an Zeit und Kosten ist zu erwarten? | D9: Offen
A10: 5 | B10: Langfristige Vorbereitung | C10: Legen Sie den Umzugstermin fest. | D10: Offen
A11: 6 | B11: Langfristige Vorbereitung | C11: Fertigen Sie eine umfangreiche Inventarliste an. | D11: Offen
A12: 7 | B12: Langfristige Vorbereitung | C12: Ein Umzug ist eine gute Gelegenheit zum Aussortieren. Selektieren Sie sorgfältig Büromöbel und Büroausstattung. | D12: Offen
A13: 8 | B13: Langfristige Vorbereitung | C13: Prüfen Sie die vorhandenen Transportwege, Rangierflächen, und den verfügbaren Platz zum Einpacken. Auch Zufahrtshöhen, Brandschutzbestimmunen und Belastbarkeit der Fahrstühle sollten geprüft werden. | D13: Offen
A14: 9 | B14: Langfristige Vorbereitung | C14: Haben Sie sperrige oder schwere Gegenstände, beispielsweise Maschinen oder Tresore zu transportieren? Dieser erfordern einen Spezialtransport. Sprechen Sie rechtzeitig mit Ihrem Umzugsunternehmen darüber. | D14: Offen
A15: 10 | B15: Kommunikation mit den Mitarbeitenden | C15: Binden Sie die Mitarbeitenden in den Umzug ein. So können Sie Angst vor Veränderungen und Kritik am Neuen am ehesten entgegenwirken. | D15: Offen
A16: 11 | B16: Kommunikation mit den Mitarbeitenden | C16: Benennen Sie einen Umzugsbeauftragten/ eine Umzugsbeauftragte oder ein Umzugsteam aus VertreterInnen mehrerer Abteilungen. | D16: Offen
A17: 12 | B17: Kommunikation mit den Mitarbeitenden | C17: Kommunizieren Sie regelmäßig über den Stand der Umzugsvorbereitungen. Kommunizieren Sie auch die Vorteile des neuen Standortes. | D17: Offen
... A39: 34 | B39: Es geht los! Am Umzugstag | C39: Jetzt können Sie feiern: Begrüßen Sie mit einem kleinen Einstand die neuen NachbarnInnen und feiern Sie gemeinsam mit der Belegschaft den erfolgreichen Umzug. | D39: Offen
A41: Quelle: coneon GmbH, Checkliste Büroumzug (PDF, 3 Seiten). Wortlaut unverändert übernommen.

Sheet Fortschritt
A1: FORTSCHRITT
A2: Wird automatisch aus dem Tabellenblatt "Checkliste" berechnet. Keine Eingaben nötig.
A4: Phase | B4: Aufgaben | C4: Erledigt | D4: In Arbeit | E4: Offen | F4: Entfällt | G4: Fortschritt
A5: Langfristige Vorbereitung | B5: =COUNTIF(Checkliste!$B$6:$B$39,$A5) -> 9 | C5: =COUNTIFS(Checkliste!$B$6:$B$39,$A5,Checkliste!$D$6:$D$39,"Erledigt") -> 0 | D5: =COUNTIFS(Checkliste!$B$6:$B$39,$A5,Checkliste!$D$6:$D$39,"In Arbeit") -> 0 | E5: =COUNTIFS(Checkliste!$B$6:$B$39,$A5,Checkliste!$D$6:$D$39,"Offen") -> 9 | F5: =COUNTIFS(Checkliste!$B$6:$B$39,$A5,Checkliste!$D$6:$D$39,"Entfällt") -> 0 | G5: =IFERROR($C5/($B5-$F5),0) -> 0
A6: Kommunikation mit den Mitarbeitenden | B6: =COUNTIF(Checkliste!$B$6:$B$39,$A6) -> 3 | C6: =COUNTIFS(Checkliste!$B$6:$B$39,$A6,Checkliste!$D$6:$D$39,"Erledigt") -> 0 | D6: =COUNTIFS(Checkliste!$B$6:$B$39,$A6,Checkliste!$D$6:$D$39,"In Arbeit") -> 0 | E6: =COUNTIFS(Checkliste!$B$6:$B$39,$A6,Checkliste!$D$6:$D$39,"Offen") -> 3 | F6: =COUNTIFS(Checkliste!$B$6:$B$39,$A6,Checkliste!$D$6:$D$39,"Entfällt") -> 0 | G6: =IFERROR($C6/($B6-$F6),0) -> 0
A7: Kommunikation mit KundInnen und PartnerInnen | B7: =COUNTIF(Checkliste!$B$6:$B$39,$A7) -> 8 | C7: =COUNTIFS(Checkliste!$B$6:$B$39,$A7,Checkliste!$D$6:$D$39,"Erledigt") -> 0 | D7: =COUNTIFS(Checkliste!$B$6:$B$39,$A7,Checkliste!$D$6:$D$39,"In Arbeit") -> 0 | E7: =COUNTIFS(Checkliste!$B$6:$B$39,$A7,Checkliste!$D$6:$D$39,"Offen") -> 8 | F7: =COUNTIFS(Checkliste!$B$6:$B$39,$A7,Checkliste!$D$6:$D$39,"Entfällt") -> 0 | G7: =IFERROR($C7/($B7-$F7),0) -> 0
A8: Vorbereitungen in den neuen Räumen | B8: =COUNTIF(Checkliste!$B$6:$B$39,$A8) -> 2 | C8: =COUNTIFS(Checkliste!$B$6:$B$39,$A8,Checkliste!$D$6:$D$39,"Erledigt") -> 0 | D8: =COUNTIFS(Checkliste!$B$6:$B$39,$A8,Checkliste!$D$6:$D$39,"In Arbeit") -> 0 | E8: =COUNTIFS(Checkliste!$B$6:$B$39,$A8,Checkliste!$D$6:$D$39,"Offen") -> 2 | F8: =COUNTIFS(Checkliste!$B$6:$B$39,$A8,Checkliste!$D$6:$D$39,"Entfällt") -> 0 | G8: =IFERROR($C8/($B8-$F8),0) -> 0
A9: In den Startlöchern. Kurz vor dem Umzug | B9: =COUNTIF(Checkliste!$B$6:$B$39,$A9) -> 8 | C9: =COUNTIFS(Checkliste!$B$6:$B$39,$A9,Checkliste!$D$6:$D$39,"Erledigt") -> 0 | D9: =COUNTIFS(Checkliste!$B$6:$B$39,$A9,Checkliste!$D$6:$D$39,"In Arbeit") -> 0 | E9: =COUNTIFS(Checkliste!$B$6:$B$39,$A9,Checkliste!$D$6:$D$39,"Offen") -> 8 | F9: =COUNTIFS(Checkliste!$B$6:$B$39,$A9,Checkliste!$D$6:$D$39,"Entfällt") -> 0 | G9: =IFERROR($C9/($B9-$F9),0) -> 0
A10: Es geht los! Am Umzugstag | B10: =COUNTIF(Checkliste!$B$6:$B$39,$A10) -> 4 | C10: =COUNTIFS(Checkliste!$B$6:$B$39,$A10,Checkliste!$D$6:$D$39,"Erledigt") -> 0 | D10: =COUNTIFS(Checkliste!$B$6:$B$39,$A10,Checkliste!$D$6:$D$39,"In Arbeit") -> 0 | E10: =COUNTIFS(Checkliste!$B$6:$B$39,$A10,Checkliste!$D$6:$D$39,"Offen") -> 4 | F10: =COUNTIFS(Checkliste!$B$6:$B$39,$A10,Checkliste!$D$6:$D$39,"Entfällt") -> 0 | G10: =IFERROR($C10/($B10-$F10),0) -> 0
A11: Gesamt | B11: =SUM(B5:B10) -> 34 | C11: =SUM(C5:C10) -> 0 | D11: =SUM(D5:D10) -> 0 | E11: =SUM(E5:E10) -> 34 | F11: =SUM(F5:F10) -> 0 | G11: =IFERROR($C11/($B11-$F11),0) -> 0
A13: Hinweis: "Fortschritt" = Erledigt geteilt durch Aufgaben abzüglich der als "Entfällt" markierten Punkte.
